BEGIN:VCALENDAR
VERSION:2.0
PRODID:-//Gaelscoil Inse Chór - ECPv4.6.13//NONSGML v1.0//EN
CALSCALE:GREGORIAN
METHOD:PUBLISH
X-WR-CALNAME:Gaelscoil Inse Chór
X-ORIGINAL-URL:http://gaelscoilinsechor.ie
X-WR-CALDESC:Events for Gaelscoil Inse Chór
BEGIN:VEVENT
DTSTART;VALUE=DATE:20191218
DTEND;VALUE=DATE:20191219
DTSTAMP:20260425T234011
CREATED:20191204T112804Z
LAST-MODIFIED:20191204T112826Z
UID:6794-1576627200-1576713599@gaelscoilinsechor.ie
SUMMARY:Drámaí na Nollag
DESCRIPTION:Commencing at 7:30 in the school hall for Ranganna 3-6 \n
URL:http://gaelscoilinsechor.ie/event/dramai-na-nollag/
ATTACH;FMTTYPE=image/png:http://gaelscoilinsechor.ie/wp-content/uploads/2019/12/4f4d1fbfef1a5ac1068ea404b083aba8.png
END:VEVENT
END:VCALENDAR