BEGIN:VCALENDAR
VERSION:2.0
PRODID:-//Gaelscoil Inse Chór - ECPv4.6.13//NONSGML v1.0//EN
CALSCALE:GREGORIAN
METHOD:PUBLISH
X-WR-CALNAME:Gaelscoil Inse Chór
X-ORIGINAL-URL:http://gaelscoilinsechor.ie
X-WR-CALDESC:Events for Gaelscoil Inse Chór
BEGIN:VEVENT
DTSTART;VALUE=DATE:20191206
DTEND;VALUE=DATE:20191207
DTSTAMP:20260425T233833
CREATED:20191204T111906Z
LAST-MODIFIED:20191204T111906Z
UID:6788-1575590400-1575676799@gaelscoilinsechor.ie
SUMMARY:Sladmhargadh na Nollag
DESCRIPTION:
URL:http://gaelscoilinsechor.ie/event/sladmhargadh-na-nollag-2/
ATTACH;FMTTYPE=image/png:http://gaelscoilinsechor.ie/wp-content/uploads/2018/11/TFVnT.png
END:VEVENT
END:VCALENDAR