BEGIN:VCALENDAR
VERSION:2.0
PRODID:-//Gaelscoil Inse Chór - ECPv4.6.13//NONSGML v1.0//EN
CALSCALE:GREGORIAN
METHOD:PUBLISH
X-WR-CALNAME:Gaelscoil Inse Chór
X-ORIGINAL-URL:http://gaelscoilinsechor.ie
X-WR-CALDESC:Events for Gaelscoil Inse Chór
BEGIN:VEVENT
DTSTART;VALUE=DATE:20190307
DTEND;VALUE=DATE:20190308
DTSTAMP:20260426T011442
CREATED:20190304T122403Z
LAST-MODIFIED:20190304T122541Z
UID:6576-1551916800-1552003199@gaelscoilinsechor.ie
SUMMARY:World Book Day !
DESCRIPTION:An Déardaoin an 7ú Márta!  \n
URL:http://gaelscoilinsechor.ie/event/la-idirnaisiunta-na-leabhair/
ATTACH;FMTTYPE=image/jpeg:http://gaelscoilinsechor.ie/wp-content/uploads/2019/02/world-book-day-logo-240x300-1.jpg
END:VEVENT
END:VCALENDAR