BEGIN:VCALENDAR
VERSION:2.0
PRODID:-//Gaelscoil Inse Chór - ECPv4.6.13//NONSGML v1.0//EN
CALSCALE:GREGORIAN
METHOD:PUBLISH
X-WR-CALNAME:Gaelscoil Inse Chór
X-ORIGINAL-URL:http://gaelscoilinsechor.ie
X-WR-CALDESC:Events for Gaelscoil Inse Chór
BEGIN:VEVENT
DTSTART;VALUE=DATE:20181219
DTEND;VALUE=DATE:20181220
DTSTAMP:20260420T091715
CREATED:20181005T140040Z
LAST-MODIFIED:20181005T140040Z
UID:5866-1545177600-1545263999@gaelscoilinsechor.ie
SUMMARY:The ARK - How to catch a Star
DESCRIPTION:Naíonáin Bheaga – Trip to the Ark to see the puppet Show based on the popular book by Oliver Jeffers.  \n
URL:http://gaelscoilinsechor.ie/event/english-the-ark-how-to-catch-a-star/
LOCATION:Temple Bar\, Dublin\, Ireland
ATTACH;FMTTYPE=image/jpeg:http://gaelscoilinsechor.ie/wp-content/uploads/2018/10/How-to-catch-a-star-6.jpg
END:VEVENT
END:VCALENDAR